BEGIN:VCALENDAR
METHOD:PUBLISH
VERSION:2.0
PRODID:-//hacksw/handcal//NONSGML v1.0//EN
X-WR-TIMEZONE:Australia/Brisbane
CALSCALE:GREGORIAN
BEGIN:VEVENT
DTSTART;TZID=Australia/Brisbane:20260516T083000
DTEND;TZID=Australia/Brisbane:20260516T113000
UID:8816891695691B04A3A87619381178178816891695691B04A3A8771248088972
DTSTAMP:20260422T102649
LOCATION:Frank Chaston Oval, Worongary Road, Gilston (opposite the Gilston
  State School). 
DESCRIPTION:Come & enjoy a cuppa & a chat and work of your MG or help sort
  someone\'s issue.
URL;VALUE=URI:http://goldcoastmgcarclub.com.au/events/view.php?id=88168916
 95691B04A3A87619381178178816891695691B04A3A8771248088972
SUMMARY:Shed Morning Meet Up
END:VEVENT
END:VCALENDAR
