BEGIN:VCALENDAR
METHOD:PUBLISH
VERSION:2.0
PRODID:-//hacksw/handcal//NONSGML v1.0//EN
X-WR-TIMEZONE:Australia/Brisbane
CALSCALE:GREGORIAN
BEGIN:VEVENT
DTSTART;TZID=Australia/Brisbane:20260502T083000
DTEND;TZID=Australia/Brisbane:20260502T113000
UID:7053512572691B03DF6EC3059775603612343647001691B03DF6EC4052308367
DTSTAMP:20260422T101549
LOCATION:Frank Chaston Oval, Worongary Road, Gilston (opposite the Gilston
  State School). 
DESCRIPTION:Come & enjoy a cuppa & a chat and work of your MG or help sort
  someone\'s issue.
URL;VALUE=URI:http://goldcoastmgcarclub.com.au/events/view.php?id=70535125
 72691B03DF6EC3059775603612343647001691B03DF6EC4052308367
SUMMARY:Shed Morning Meet Up
END:VEVENT
END:VCALENDAR
