BEGIN:VCALENDAR
METHOD:PUBLISH
VERSION:2.0
PRODID:-//hacksw/handcal//NONSGML v1.0//EN
X-WR-TIMEZONE:Australia/Brisbane
CALSCALE:GREGORIAN
BEGIN:VEVENT
DTSTART;TZID=Australia/Brisbane:20260516T113000
DTEND;TZID=Australia/Brisbane:20260516T130000
UID:3526756928691B05202EDB171250741312343649248691B05202EDBE84220339
DTSTAMP:20260422T102053
LOCATION:Come & enjoy a cuppa & a chat and work of your MG or help sort so
 meone\'s issue.
DESCRIPTION:Monthly Committee Meeting ... everyone welcome. 
URL;VALUE=URI:http://goldcoastmgcarclub.com.au/events/view.php?id=35267569
 28691B05202EDB171250741312343649248691B05202EDBE84220339
SUMMARY:Committee Meeting
END:VEVENT
END:VCALENDAR
