BEGIN:VCALENDAR
METHOD:PUBLISH
VERSION:2.0
PRODID:-//hacksw/handcal//NONSGML v1.0//EN
X-WR-TIMEZONE:Australia/Brisbane
CALSCALE:GREGORIAN
BEGIN:VEVENT
DTSTART;TZID=Australia/Brisbane:20241205T080000
DTEND;TZID=Australia/Brisbane:20241205T120000
UID:2MF4VXER2LPQFW463ZUQQUZCH2713OOFNZOV0S2IJV0YG242YKGKO5GCTBZ1J4NF
DTSTAMP:20260422T084620
LOCATION: Lakeside Park, Lakeside Rd, Kurwongbah QLD
DESCRIPTION: Golden Era Auto Racing is an opportunity for those with Class
 ics to get out on a track and enjoy their vehicle. For more information go
  to: https://gear.org.au/
URL;VALUE=URI:http://goldcoastmgcarclub.com.au/events/view.php?id=2MF4VXER
 2LPQFW463ZUQQUZCH2713OOFNZOV0S2IJV0YG242YKGKO5GCTBZ1J4NF
SUMMARY:Golden Era Auto Racing (Christmas Lunch)
END:VEVENT
END:VCALENDAR
