BEGIN:VCALENDAR
METHOD:PUBLISH
VERSION:2.0
PRODID:-//hacksw/handcal//NONSGML v1.0//EN
X-WR-TIMEZONE:Australia/Brisbane
CALSCALE:GREGORIAN
BEGIN:VEVENT
DTSTART;TZID=Australia/Brisbane:20260328T100000
DTEND;TZID=Australia/Brisbane:20260328T120000
UID:15914677536696614201EC752351836955304892512696614201EC8A25298870
DTSTAMP:20260422T203445
LOCATION:The Anchorage Cafe
DESCRIPTION:Coffee by the Water (LSIM Run) Saturday 28th March. Coffee Run
  meet 10.00am The Anchorage Café Horizon Shores Marina 80 Cabbage Tree Po
 int Rd., Steiglitz. Plenty of parking next to café. The drive from site e
 ntrance to café is approx 500 mtrs & the building is stand alone on left 
 near the water, Numbers required by Thursday 26th March please. Contact Jo
 hn Boyce 044450 0071 or email johnboyce44@bigpond.com.au 
URL;VALUE=URI:http://goldcoastmgcarclub.com.au/events/view.php?id=15914677
 536696614201EC752351836955304892512696614201EC8A25298870
SUMMARY:Coffee By The Water
END:VEVENT
END:VCALENDAR
