BEGIN:VCALENDAR
METHOD:PUBLISH
VERSION:2.0
PRODID:-//hacksw/handcal//NONSGML v1.0//EN
X-WR-TIMEZONE:Australia/Brisbane
CALSCALE:GREGORIAN
BEGIN:VEVENT
DTSTART;TZID=Australia/Brisbane:20260513T081500
DTEND;TZID=Australia/Brisbane:20260513T150000
UID:1421203008069E34BD020F0D021847245177650376069E34BD020F2004250838
DTSTAMP:20260422T101243
LOCATION:Kingscliff to Lismore
DESCRIPTION:Stuart Duncan, Pre War & Pre 1956 MG Rally organiser, has invi
 ted club members to tag along for a (long) run out to view an interesting 
 Morris & MG Collection at a property near Lismore. Of course in additon to
  the viewing you will be on a run with lots of old & important MGs that wi
 ll be of interest in themselves. And you will have a chance to chat with t
 heir owners, some of whom will have travelled a very long way to be there.
  You need to contact Stuart for more details... 0405 402 745 
URL;VALUE=URI:http://goldcoastmgcarclub.com.au/events/view.php?id=14212030
 08069E34BD020F0D021847245177650376069E34BD020F2004250838
SUMMARY:Tag Along With MG Pre War Rally Event
END:VEVENT
END:VCALENDAR
