BEGIN:VCALENDAR
METHOD:PUBLISH
VERSION:2.0
PRODID:-//hacksw/handcal//NONSGML v1.0//EN
X-WR-TIMEZONE:Australia/Brisbane
CALSCALE:GREGORIAN
BEGIN:VEVENT
DTSTART;TZID=Australia/Brisbane:20260321T083000
DTEND;TZID=Australia/Brisbane:20260321T113000
UID:12343648373691B04A3A56CA79020891515870405051691B04A3A56D33395843
DTSTAMP:20260422T202233
LOCATION:Frank Chaston Oval, Worongary Road, Gilston (opposite the Gilston
  State School). 
DESCRIPTION:Come & enjoy a cuppa & a chat and work of your MG or help sort
  someone\'s issue.
URL;VALUE=URI:http://goldcoastmgcarclub.com.au/events/view.php?id=12343648
 373691B04A3A56CA79020891515870405051691B04A3A56D33395843
SUMMARY:Shed Morning Meet Up
END:VEVENT
END:VCALENDAR
