BEGIN:VCALENDAR
METHOD:PUBLISH
VERSION:2.0
PRODID:-//hacksw/handcal//NONSGML v1.0//EN
X-WR-TIMEZONE:Australia/Brisbane
CALSCALE:GREGORIAN
BEGIN:VEVENT
DTSTART;TZID=Australia/Brisbane:20260321T113000
DTEND;TZID=Australia/Brisbane:20260321T130000
UID:10580270784691B05202BE1716425034112343649248691B05202BE277324620
DTSTAMP:20260422T204035
LOCATION:Come & enjoy a cuppa & a chat and work of your MG or help sort so
 meone\'s issue.
DESCRIPTION:Monthly Committee Meeting ... everyone welcome. 
URL;VALUE=URI:http://goldcoastmgcarclub.com.au/events/view.php?id=10580270
 784691B05202BE1716425034112343649248691B05202BE277324620
SUMMARY:Committee Meeting
END:VEVENT
END:VCALENDAR
